BEGIN:VCALENDAR
VERSION:2.0
PRODID:spatie/icalendar-generator
DESCRIPTION:Events from Manchester\, CT - Living\, Learning\, Working\, Pla
 ying
X-WR-CALDESC:Events from Manchester\, CT - Living\, Learning\, Working\, Pl
 aying
REFRESH-INTERVAL;VALUE=DURATION:PT1440M
X-PUBLISHED-TTL:PT1440M
BEGIN:VTIMEZONE
TZID:America/New_York
BEGIN:STANDARD
DTSTART:20201101T020000Z
TZOFFSETFROM:-0400
TZOFFSETTO:-0500
END:STANDARD
BEGIN:DAYLIGHT
DTSTART:20210314T020000Z
TZOFFSETFROM:-0500
TZOFFSETTO:-0400
END:DAYLIGHT
END:VTIMEZONE
BEGIN:VTIMEZONE
TZID:UTC
BEGIN:STANDARD
DTSTART:20250728T080026Z
TZOFFSETFROM:+0000
TZOFFSETTO:+0000
END:STANDARD
END:VTIMEZONE
BEGIN:VEVENT
UID:1049-165
DTSTAMP:20260424T080026Z
SUMMARY:GRAND RE-OPENING: BISTRO ON MAIN
LOCATION:
ORGANIZER;CN=manchesterctblog:MAILTO:christineladd57@gmail.com
DTSTART;TZID=America/New_York:20210503T170000
DTEND;TZID=America/New_York:20210503T190000
X-ALT-DESC;FMTTYPE=TEXT/HTML:Join us in celebrating the grand re-opening of
  Bistro on Main! Sample the menu and show your appreciation of this except
 ional downtown establishment.
CATEGORIES:Chamber of Commerce
URL;VALUE=URI:https://manchester-ct.blog/mc-events/grand-re-opening-bistro-
 on-main/
METHOD:PUBLISH
END:VEVENT
END:VCALENDAR