BEGIN:VCALENDAR
VERSION:2.0
PRODID:spatie/icalendar-generator
DESCRIPTION:Events from Manchester\, CT - Living\, Learning\, Working\, Pla
 ying
X-WR-CALDESC:Events from Manchester\, CT - Living\, Learning\, Working\, Pl
 aying
REFRESH-INTERVAL;VALUE=DURATION:PT1440M
X-PUBLISHED-TTL:PT1440M
BEGIN:VTIMEZONE
TZID:America/New_York
BEGIN:STANDARD
DTSTART:20201101T020000Z
TZOFFSETFROM:-0400
TZOFFSETTO:-0500
END:STANDARD
BEGIN:DAYLIGHT
DTSTART:20210314T020000Z
TZOFFSETFROM:-0500
TZOFFSETTO:-0400
END:DAYLIGHT
BEGIN:STANDARD
DTSTART:20211107T020000Z
TZOFFSETFROM:-0400
TZOFFSETTO:-0500
END:STANDARD
END:VTIMEZONE
BEGIN:VTIMEZONE
TZID:UTC
BEGIN:STANDARD
DTSTART:20250724T090035Z
TZOFFSETFROM:+0000
TZOFFSETTO:+0000
END:STANDARD
END:VTIMEZONE
BEGIN:VEVENT
UID:1381-210
DTSTAMP:20260420T090035Z
SUMMARY:LTM's Lunchtime Lecture- Walter Cronkite is Dead
LOCATION:Cheney Hall 177 Hartford Rd  Manchester CT 06040
ORGANIZER;CN=manchesterctblog:MAILTO:christineladd57@gmail.com
DTSTART;TZID=America/New_York:20210609T120000
DTEND;TZID=America/New_York:20210609T130000
X-ALT-DESC;FMTTYPE=TEXT/HTML:In-person\, indoor event. Socially distanced s
 eating in the auditorium. Masks are required. Free of charge and no reserv
 ations needed. Join David Garnes as he discusses LTM’s upcoming producti
 on of WALTER CRONKITE IS DEAD with members of the cast and creative team. 
 Free and open to the public\, Lunchtime Lectures offer an opportunity to l
 earn about&amp;hellip\;
CATEGORIES:Little Theater of Manchester
URL;VALUE=URI:https://manchester-ct.blog/mc-events/ltms-lunchtime-lecture-w
 alter-cronkite-is-dead/
METHOD:PUBLISH
END:VEVENT
END:VCALENDAR