BEGIN:VCALENDAR
VERSION:2.0
PRODID:spatie/icalendar-generator
DESCRIPTION:Events from Manchester\, CT - Living\, Learning\, Working\, Pla
 ying
X-WR-CALDESC:Events from Manchester\, CT - Living\, Learning\, Working\, Pl
 aying
REFRESH-INTERVAL;VALUE=DURATION:PT1440M
X-PUBLISHED-TTL:PT1440M
BEGIN:VTIMEZONE
TZID:America/New_York
BEGIN:DAYLIGHT
DTSTART:20210314T020000Z
TZOFFSETFROM:-0500
TZOFFSETTO:-0400
END:DAYLIGHT
BEGIN:STANDARD
DTSTART:20211107T020000Z
TZOFFSETFROM:-0400
TZOFFSETTO:-0500
END:STANDARD
BEGIN:DAYLIGHT
DTSTART:20220313T020000Z
TZOFFSETFROM:-0500
TZOFFSETTO:-0400
END:DAYLIGHT
END:VTIMEZONE
BEGIN:VTIMEZONE
TZID:UTC
BEGIN:STANDARD
DTSTART:20250724T085500Z
TZOFFSETFROM:+0000
TZOFFSETTO:+0000
END:STANDARD
END:VTIMEZONE
BEGIN:VEVENT
UID:238-46
DTSTAMP:20260420T085500Z
SUMMARY:VFW Meeting
LOCATION:Army Navy Club  1090 Main St.  Manchester CT 06040
ORGANIZER;CN=manchesterctblog:MAILTO:christineladd57@gmail.com
RRULE:FREQ=MONTHLY;BYDAY=2TU;COUNT=8
DTSTART;TZID=America/New_York:20211012T183000
DTEND;TZID=America/New_York:20211012T193000
X-ALT-DESC;FMTTYPE=TEXT/HTML:VFW Meeting
CATEGORIES:Other (non-profit)
URL;VALUE=URI:https://manchester-ct.blog/mc-events/vfw-meeting/?mc_id=238
METHOD:PUBLISH
END:VEVENT
END:VCALENDAR