BEGIN:VCALENDAR
VERSION:2.0
PRODID:spatie/icalendar-generator
DESCRIPTION:Events from Manchester\, CT - Living\, Learning\, Working\, Pla
 ying
X-WR-CALDESC:Events from Manchester\, CT - Living\, Learning\, Working\, Pl
 aying
REFRESH-INTERVAL;VALUE=DURATION:PT1440M
X-PUBLISHED-TTL:PT1440M
BEGIN:VTIMEZONE
TZID:America/New_York
BEGIN:STANDARD
DTSTART:20211107T020000Z
TZOFFSETFROM:-0400
TZOFFSETTO:-0500
END:STANDARD
BEGIN:DAYLIGHT
DTSTART:20220313T020000Z
TZOFFSETFROM:-0500
TZOFFSETTO:-0400
END:DAYLIGHT
END:VTIMEZONE
BEGIN:VTIMEZONE
TZID:UTC
BEGIN:STANDARD
DTSTART:20250725T085140Z
TZOFFSETFROM:+0000
TZOFFSETTO:+0000
END:STANDARD
END:VTIMEZONE
BEGIN:VEVENT
UID:2763-383
DTSTAMP:20260421T085140Z
SUMMARY:Redeemable Cans &amp;amp\; Bottles
LOCATION:WWLM Loading Dock 723 Main St  Manchester CT
ORGANIZER;CN=manchesterctblog:MAILTO:christineladd57@gmail.com
RRULE:FREQ=MONTHLY;BYDAY=1MO;COUNT=12
DTSTART;TZID=America/New_York:20220502T190000
DTEND;TZID=America/New_York:20220502T200000
X-ALT-DESC;FMTTYPE=TEXT/HTML:If you have redeemable cans &amp;amp\; bottles tha
 t you're looking to move along\, but want them to make a difference for s
 omeone in need - drop them off to WWLM! (World-Wide Lighthouse Missions) D
 onation Details: 1st Monday of every month 7-8pm (unless otherwise announc
 ed) WWLM Warehouse Loading Dock 723 Main Street\, Manchester (Use Bissell 
 St parking&amp;hellip\;
CATEGORIES:Other (non-profit)
URL;VALUE=URI:https://manchester-ct.blog/mc-events/redeemable-cans-bottles/
 ?mc_id=2763
METHOD:PUBLISH
END:VEVENT
END:VCALENDAR