BEGIN:VCALENDAR
VERSION:2.0
PRODID:spatie/icalendar-generator
DESCRIPTION:Events from Manchester\, CT - Living\, Learning\, Working\, Pla
 ying
X-WR-CALDESC:Events from Manchester\, CT - Living\, Learning\, Working\, Pl
 aying
REFRESH-INTERVAL;VALUE=DURATION:PT1440M
X-PUBLISHED-TTL:PT1440M
BEGIN:VTIMEZONE
TZID:America/New_York
BEGIN:DAYLIGHT
DTSTART:20210314T020000Z
TZOFFSETFROM:-0500
TZOFFSETTO:-0400
END:DAYLIGHT
BEGIN:STANDARD
DTSTART:20211107T020000Z
TZOFFSETFROM:-0400
TZOFFSETTO:-0500
END:STANDARD
END:VTIMEZONE
BEGIN:VTIMEZONE
TZID:UTC
BEGIN:STANDARD
DTSTART:20250728T080750Z
TZOFFSETFROM:+0000
TZOFFSETTO:+0000
END:STANDARD
END:VTIMEZONE
BEGIN:VEVENT
UID:2775-388
DTSTAMP:20260424T080750Z
SUMMARY:Beller's Music Summer Concert Series
LOCATION:Center Memorial Park 41 Center St  Manchester CT 06040
ORGANIZER;CN=manchesterctblog:MAILTO:christineladd57@gmail.com
DTSTART;TZID=America/New_York:20210805T163000
DTEND;TZID=America/New_York:20210805T200000
X-ALT-DESC;FMTTYPE=TEXT/HTML:Plenty of Suite Sounds and GOZA (JOY) to go ar
 ound! GOZA (JOY) comes to Center Memorial Park. Thursday\, August 5 from 6
 -8 pm at the Beller's Music Summer Concert Series. GOZA performs exciting 
 music and dance rhythms from Latin America\, Brazil\, and Spain with guita
 r\, violin\, horns\, Latin percussion\, and beautiful\, romantic vocals. P
 rior to&amp;hellip\;
CATEGORIES:Downtown Manchester Special Services District
URL;VALUE=URI:https://manchester-ct.blog/mc-events/bellers-music-summer-con
 cert-series/
METHOD:PUBLISH
END:VEVENT
END:VCALENDAR