BEGIN:VCALENDAR
VERSION:2.0
PRODID:spatie/icalendar-generator
DESCRIPTION:Events from Manchester\, CT - Living\, Learning\, Working\, Pla
 ying
X-WR-CALDESC:Events from Manchester\, CT - Living\, Learning\, Working\, Pl
 aying
REFRESH-INTERVAL;VALUE=DURATION:PT1440M
X-PUBLISHED-TTL:PT1440M
BEGIN:VTIMEZONE
TZID:America/New_York
BEGIN:DAYLIGHT
DTSTART:20210314T020000Z
TZOFFSETFROM:-0500
TZOFFSETTO:-0400
END:DAYLIGHT
BEGIN:STANDARD
DTSTART:20211107T020000Z
TZOFFSETFROM:-0400
TZOFFSETTO:-0500
END:STANDARD
BEGIN:DAYLIGHT
DTSTART:20220313T020000Z
TZOFFSETFROM:-0500
TZOFFSETTO:-0400
END:DAYLIGHT
END:VTIMEZONE
BEGIN:VTIMEZONE
TZID:UTC
BEGIN:STANDARD
DTSTART:20250726T094859Z
TZOFFSETFROM:+0000
TZOFFSETTO:+0000
END:STANDARD
END:VTIMEZONE
BEGIN:VEVENT
UID:2832-427
DTSTAMP:20260422T094859Z
SUMMARY:COVID-19 Vaccines Clinic
LOCATION:Charter Oak Park 56 Charter Oak St  Manchester CT 06040
ORGANIZER;CN=manchesterctblog:MAILTO:christineladd57@gmail.com
DTSTART;TZID=America/New_York:20210925T100000
DTEND;TZID=America/New_York:20210925T140000
X-ALT-DESC;FMTTYPE=TEXT/HTML:We all have a role in protecting each other! V
 accines are safe and effective\, and help us save lives. Get your free COV
 ID-19 vaccines at Charter Oak Park. Saturday 9/4/2021 Saturday 9/25/2021 N
 o appointment needed\; Free COVID-19 vaccines\; No insurance required! For
  more information\, call 211 or visit ct.gov/covidvaccine. For guests who 
 are deaf or&amp;hellip\;
CATEGORIES:Town Government
URL;VALUE=URI:https://manchester-ct.blog/mc-events/covid-19-vaccines-clinic
 -2/
METHOD:PUBLISH
END:VEVENT
END:VCALENDAR