BEGIN:VCALENDAR
VERSION:2.0
PRODID:spatie/icalendar-generator
DESCRIPTION:Events from Manchester\, CT - Living\, Learning\, Working\, Pla
 ying
X-WR-CALDESC:Events from Manchester\, CT - Living\, Learning\, Working\, Pl
 aying
REFRESH-INTERVAL;VALUE=DURATION:PT1440M
X-PUBLISHED-TTL:PT1440M
BEGIN:VTIMEZONE
TZID:America/New_York
BEGIN:DAYLIGHT
DTSTART:20210314T020000Z
TZOFFSETFROM:-0500
TZOFFSETTO:-0400
END:DAYLIGHT
BEGIN:STANDARD
DTSTART:20211107T020000Z
TZOFFSETFROM:-0400
TZOFFSETTO:-0500
END:STANDARD
BEGIN:DAYLIGHT
DTSTART:20220313T020000Z
TZOFFSETFROM:-0500
TZOFFSETTO:-0400
END:DAYLIGHT
END:VTIMEZONE
BEGIN:VTIMEZONE
TZID:UTC
BEGIN:STANDARD
DTSTART:20250726T081801Z
TZOFFSETFROM:+0000
TZOFFSETTO:+0000
END:STANDARD
END:VTIMEZONE
BEGIN:VEVENT
UID:2846-440
DTSTAMP:20260422T081801Z
SUMMARY:Manchester Garden Club Meeting
LOCATION:Northwest Park 448 Tolland Turnpike  Manchester CT
ORGANIZER;CN=manchesterctblog:MAILTO:christineladd57@gmail.com
DTSTART;TZID=America/New_York:20210913T180000
DTEND;TZID=America/New_York:20210913T193000
X-ALT-DESC;FMTTYPE=TEXT/HTML:The Manchester Garden Club currently plans to 
 resume in person meetings beginning this fall. The first meeting will be M
 onday\, September 13\, 2021 from 6 to 7:30 p.m. at the Pavilion at Northwe
 st Park\, 448 Tolland Turnpike\, Manchester. Members will bring either a p
 erennial plant from their garden or a houseplant to “swap” with anothe
 r.&amp;hellip\;
CATEGORIES:Other (non-profit)
URL;VALUE=URI:https://manchester-ct.blog/mc-events/manchester-garden-club-m
 eeting/
METHOD:PUBLISH
END:VEVENT
END:VCALENDAR