BEGIN:VCALENDAR
VERSION:2.0
PRODID:spatie/icalendar-generator
DESCRIPTION:Events from Manchester\, CT - Living\, Learning\, Working\, Pla
 ying
X-WR-CALDESC:Events from Manchester\, CT - Living\, Learning\, Working\, Pl
 aying
REFRESH-INTERVAL;VALUE=DURATION:PT1440M
X-PUBLISHED-TTL:PT1440M
BEGIN:VTIMEZONE
TZID:America/New_York
BEGIN:DAYLIGHT
DTSTART:20210314T020000Z
TZOFFSETFROM:-0500
TZOFFSETTO:-0400
END:DAYLIGHT
BEGIN:STANDARD
DTSTART:20211107T020000Z
TZOFFSETFROM:-0400
TZOFFSETTO:-0500
END:STANDARD
BEGIN:DAYLIGHT
DTSTART:20220313T020000Z
TZOFFSETFROM:-0500
TZOFFSETTO:-0400
END:DAYLIGHT
END:VTIMEZONE
BEGIN:VTIMEZONE
TZID:UTC
BEGIN:STANDARD
DTSTART:20250728T092453Z
TZOFFSETFROM:+0000
TZOFFSETTO:+0000
END:STANDARD
END:VTIMEZONE
BEGIN:VEVENT
UID:2883-454
DTSTAMP:20260424T092453Z
SUMMARY:Recipe Readers Cookbook Club
LOCATION:
ORGANIZER;CN=manchesterctblog:MAILTO:christineladd57@gmail.com
DTSTART;TZID=America/New_York:20210925T123000
DTEND;TZID=America/New_York:20210925T143000
X-ALT-DESC;FMTTYPE=TEXT/HTML:The epicurious cookbook: more than 250 of our 
 best-loved four-fork recipes for weeknights\, weekends &amp;amp\; special occa
 sions by Tanya Steel and the editors of Epicurious This club meets monthly
  on Saturday afternoons from 12:30 to 2:30. Each month a theme\, author or
  cookbook will be chosen. Participants are asked to pick one recipe from t
 he&amp;hellip\;
CATEGORIES:Library
URL;VALUE=URI:https://manchester-ct.blog/mc-events/recipe-readers-cookbook-
 club/
METHOD:PUBLISH
END:VEVENT
END:VCALENDAR