BEGIN:VCALENDAR
VERSION:2.0
PRODID:spatie/icalendar-generator
DESCRIPTION:Events from Manchester\, CT - Living\, Learning\, Working\, Pla
 ying
X-WR-CALDESC:Events from Manchester\, CT - Living\, Learning\, Working\, Pl
 aying
REFRESH-INTERVAL;VALUE=DURATION:PT1440M
X-PUBLISHED-TTL:PT1440M
BEGIN:VTIMEZONE
TZID:America/New_York
BEGIN:DAYLIGHT
DTSTART:20210314T020000Z
TZOFFSETFROM:-0500
TZOFFSETTO:-0400
END:DAYLIGHT
BEGIN:STANDARD
DTSTART:20211107T020000Z
TZOFFSETFROM:-0400
TZOFFSETTO:-0500
END:STANDARD
BEGIN:DAYLIGHT
DTSTART:20220313T020000Z
TZOFFSETFROM:-0500
TZOFFSETTO:-0400
END:DAYLIGHT
END:VTIMEZONE
BEGIN:VTIMEZONE
TZID:UTC
BEGIN:STANDARD
DTSTART:20250725T223504Z
TZOFFSETFROM:+0000
TZOFFSETTO:+0000
END:STANDARD
END:VTIMEZONE
BEGIN:VEVENT
UID:2994-516
DTSTAMP:20260421T223504Z
SUMMARY:Basic Life Support Class
LOCATION:Firehouse 75 Center St  Manchester CT 06040
ORGANIZER;CN=manchesterctblog:MAILTO:christineladd57@gmail.com
DTSTART;TZID=America/New_York:20211106T090000
DTEND;TZID=America/New_York:20211106T100000
X-ALT-DESC;FMTTYPE=TEXT/HTML:Basic Life Support in person at Manchester Fir
 e Dept. August 22nd\, Sept 12th\, October 2nd\, November 6th\, &amp;amp\; Dece
 mber 12
CATEGORIES:Other (non-profit)
URL;VALUE=URI:https://manchester-ct.blog/mc-events/basic-life-support-class
 /
METHOD:PUBLISH
END:VEVENT
END:VCALENDAR