BEGIN:VCALENDAR
VERSION:2.0
PRODID:spatie/icalendar-generator
DESCRIPTION:Events from Manchester\, CT - Living\, Learning\, Working\, Pla
 ying
X-WR-CALDESC:Events from Manchester\, CT - Living\, Learning\, Working\, Pl
 aying
REFRESH-INTERVAL;VALUE=DURATION:PT1440M
X-PUBLISHED-TTL:PT1440M
BEGIN:VTIMEZONE
TZID:America/New_York
BEGIN:DAYLIGHT
DTSTART:20210314T020000Z
TZOFFSETFROM:-0500
TZOFFSETTO:-0400
END:DAYLIGHT
BEGIN:STANDARD
DTSTART:20211107T020000Z
TZOFFSETFROM:-0400
TZOFFSETTO:-0500
END:STANDARD
BEGIN:DAYLIGHT
DTSTART:20220313T020000Z
TZOFFSETFROM:-0500
TZOFFSETTO:-0400
END:DAYLIGHT
END:VTIMEZONE
BEGIN:VTIMEZONE
TZID:UTC
BEGIN:STANDARD
DTSTART:20250725T210629Z
TZOFFSETFROM:+0000
TZOFFSETTO:+0000
END:STANDARD
END:VTIMEZONE
BEGIN:VEVENT
UID:3001-522
DTSTAMP:20260421T210629Z
SUMMARY:Place Setting &amp;amp\; Napkin Folding
LOCATION:
ORGANIZER;CN=manchesterctblog:MAILTO:christineladd57@gmail.com
DTSTART;TZID=America/New_York:20211106T093000
DTEND;TZID=America/New_York:20211106T103000
X-ALT-DESC;FMTTYPE=TEXT/HTML:Manchester Public Library\, Howroyd Room Place
  Setting &amp;amp\; Napkin Folding Impress your Thanksgiving guests by adding 
 a special touch to any of the three table settings with these easy elegant
  napkin folds taught to you by Reference Librarian Michelle. Registration 
 is not required. For more information call Reference and Adult Services at
  860-645-0821. http://library.townofmanchester.org
CATEGORIES:Library
URL;VALUE=URI:https://manchester-ct.blog/mc-events/place-setting-napkin-fol
 ding/
METHOD:PUBLISH
END:VEVENT
END:VCALENDAR