BEGIN:VCALENDAR
VERSION:2.0
PRODID:spatie/icalendar-generator
DESCRIPTION:Events from Manchester\, CT - Living\, Learning\, Working\, Pla
 ying
X-WR-CALDESC:Events from Manchester\, CT - Living\, Learning\, Working\, Pl
 aying
REFRESH-INTERVAL;VALUE=DURATION:PT1440M
X-PUBLISHED-TTL:PT1440M
BEGIN:VTIMEZONE
TZID:America/New_York
BEGIN:DAYLIGHT
DTSTART:20210314T020000Z
TZOFFSETFROM:-0500
TZOFFSETTO:-0400
END:DAYLIGHT
BEGIN:STANDARD
DTSTART:20211107T020000Z
TZOFFSETFROM:-0400
TZOFFSETTO:-0500
END:STANDARD
BEGIN:DAYLIGHT
DTSTART:20220313T020000Z
TZOFFSETFROM:-0500
TZOFFSETTO:-0400
END:DAYLIGHT
END:VTIMEZONE
BEGIN:VTIMEZONE
TZID:UTC
BEGIN:STANDARD
DTSTART:20250724T085805Z
TZOFFSETFROM:+0000
TZOFFSETTO:+0000
END:STANDARD
END:VTIMEZONE
BEGIN:VEVENT
UID:3017-537
DTSTAMP:20260420T085805Z
SUMMARY:Community Clean Up and Shred Event
LOCATION:Public Works 321 Olcott St  Manchester CT
ORGANIZER;CN=manchesterctblog:MAILTO:christineladd57@gmail.com
DTSTART;TZID=America/New_York:20211113T073000
DTEND;TZID=America/New_York:20211113T150000
X-ALT-DESC;FMTTYPE=TEXT/HTML:The Public Works – Sanitation Department is 
 excited to share a new event being held at the Transfer Station. This even
 t provides the residents of Manchester an opportunity to clean out their u
 nwanted household goods at no cost. The Community Clean Up and Shred event
  will take place at the Public Works Transfer Station on&amp;hellip\;
CATEGORIES:Town Government
URL;VALUE=URI:https://manchester-ct.blog/mc-events/community-clean-up-and-s
 hred-event/
METHOD:PUBLISH
END:VEVENT
END:VCALENDAR