BEGIN:VCALENDAR
VERSION:2.0
PRODID:spatie/icalendar-generator
DESCRIPTION:Events from Manchester\, CT - Living\, Learning\, Working\, Pla
 ying
X-WR-CALDESC:Events from Manchester\, CT - Living\, Learning\, Working\, Pl
 aying
REFRESH-INTERVAL;VALUE=DURATION:PT1440M
X-PUBLISHED-TTL:PT1440M
BEGIN:VTIMEZONE
TZID:America/New_York
BEGIN:DAYLIGHT
DTSTART:20210314T020000Z
TZOFFSETFROM:-0500
TZOFFSETTO:-0400
END:DAYLIGHT
BEGIN:STANDARD
DTSTART:20211107T020000Z
TZOFFSETFROM:-0400
TZOFFSETTO:-0500
END:STANDARD
BEGIN:DAYLIGHT
DTSTART:20220313T020000Z
TZOFFSETFROM:-0500
TZOFFSETTO:-0400
END:DAYLIGHT
END:VTIMEZONE
BEGIN:VTIMEZONE
TZID:UTC
BEGIN:STANDARD
DTSTART:20250726T003639Z
TZOFFSETFROM:+0000
TZOFFSETTO:+0000
END:STANDARD
END:VTIMEZONE
BEGIN:VEVENT
UID:3100-576
DTSTAMP:20260422T003639Z
SUMMARY:FIRST THURSDAY NETWORKING @ SPARE TIME VERNON
LOCATION:
ORGANIZER;CN=manchesterctblog:MAILTO:christineladd57@gmail.com
DTSTART;TZID=America/New_York:20211104T170000
DTEND;TZID=America/New_York:20211104T190000
X-ALT-DESC;FMTTYPE=TEXT/HTML:Enjoy food\, drink\, and conversation at this 
 business after-hours networking event. First Thursday Networking is just m
 embers getting together to network with other members while enjoying libat
 ions &amp;amp\; hors d'eouvres. This event is open to GMCC members. Please RSV
 P by sending an email to the address below. Spare Time Vernon 350 Talcotvi
 lle Rd. Vernon\, CT&amp;hellip\;
CATEGORIES:Chamber of Commerce
URL;VALUE=URI:https://manchester-ct.blog/mc-events/first-thursday-networkin
 g-spare-time-vernon/
METHOD:PUBLISH
END:VEVENT
END:VCALENDAR