BEGIN:VCALENDAR
VERSION:2.0
PRODID:spatie/icalendar-generator
DESCRIPTION:Events from Manchester\, CT - Living\, Learning\, Working\, Pla
 ying
X-WR-CALDESC:Events from Manchester\, CT - Living\, Learning\, Working\, Pl
 aying
REFRESH-INTERVAL;VALUE=DURATION:PT1440M
X-PUBLISHED-TTL:PT1440M
BEGIN:VTIMEZONE
TZID:America/New_York
BEGIN:DAYLIGHT
DTSTART:20210314T020000Z
TZOFFSETFROM:-0500
TZOFFSETTO:-0400
END:DAYLIGHT
BEGIN:STANDARD
DTSTART:20211107T020000Z
TZOFFSETFROM:-0400
TZOFFSETTO:-0500
END:STANDARD
BEGIN:DAYLIGHT
DTSTART:20220313T020000Z
TZOFFSETFROM:-0500
TZOFFSETTO:-0400
END:DAYLIGHT
END:VTIMEZONE
BEGIN:VTIMEZONE
TZID:UTC
BEGIN:STANDARD
DTSTART:20250727T004226Z
TZOFFSETFROM:+0000
TZOFFSETTO:+0000
END:STANDARD
END:VTIMEZONE
BEGIN:VEVENT
UID:3250-601
DTSTAMP:20260423T004226Z
SUMMARY:Teen Center Discussion
LOCATION:Youth Services Bureau 63 Linden St  Manchester CT 06040
ORGANIZER;CN=manchesterctblog:MAILTO:christineladd57@gmail.com
RRULE:FREQ=WEEKLY;COUNT=2
DTSTART;TZID=America/New_York:20211117T143000
DTEND;TZID=America/New_York:20211117T160000
X-ALT-DESC;FMTTYPE=TEXT/HTML:Every Wednesday during the school year we offe
 r a group discussion where students are able to discuss their experiences\
 , engage with guest speakers and express their ideas on a variety of topic
 s. Pizza is served after group discussion. Call for more information (no n
 eed to register). Program Begins 09/15/21.
CATEGORIES:Leisure,  Family &amp; Recreation
URL;VALUE=URI:https://manchester-ct.blog/mc-events/teen-center-discussion/?
 mc_id=3250
METHOD:PUBLISH
END:VEVENT
END:VCALENDAR