BEGIN:VCALENDAR
VERSION:2.0
PRODID:spatie/icalendar-generator
DESCRIPTION:Events from Manchester\, CT - Living\, Learning\, Working\, Pla
 ying
X-WR-CALDESC:Events from Manchester\, CT - Living\, Learning\, Working\, Pl
 aying
REFRESH-INTERVAL;VALUE=DURATION:PT1440M
X-PUBLISHED-TTL:PT1440M
BEGIN:VTIMEZONE
TZID:America/New_York
BEGIN:STANDARD
DTSTART:20211107T020000Z
TZOFFSETFROM:-0400
TZOFFSETTO:-0500
END:STANDARD
BEGIN:DAYLIGHT
DTSTART:20220313T020000Z
TZOFFSETFROM:-0500
TZOFFSETTO:-0400
END:DAYLIGHT
END:VTIMEZONE
BEGIN:VTIMEZONE
TZID:UTC
BEGIN:STANDARD
DTSTART:20250726T081740Z
TZOFFSETFROM:+0000
TZOFFSETTO:+0000
END:STANDARD
END:VTIMEZONE
BEGIN:VEVENT
UID:3765-729
DTSTAMP:20260422T081740Z
SUMMARY:Silk City Board Game Group
LOCATION:
ORGANIZER;CN=manchesterctblog:MAILTO:christineladd57@gmail.com
DTSTART;TZID=America/New_York:20220205T120000
DTEND;TZID=America/New_York:20220205T163000
X-ALT-DESC;FMTTYPE=TEXT/HTML:Silk City Board Game Group Manchester Public L
 ibrary Join us for a fun afternoon of board games. Volunteers will teach: 
 Burgle Bros. 2\; Ark Nova\; Mandala Stones\; and Terraforming Mars: Ares E
 xpedition. We’ll provide the games\; no need to bring any with you. Free
  program for adults\; light refreshments to be served. No registration is&amp;
 hellip\;
CATEGORIES:Library
URL;VALUE=URI:https://manchester-ct.blog/mc-events/silk-city-board-game-gro
 up-2/
METHOD:PUBLISH
END:VEVENT
END:VCALENDAR