BEGIN:VCALENDAR
VERSION:2.0
PRODID:spatie/icalendar-generator
DESCRIPTION:Events from Manchester\, CT - Living\, Learning\, Working\, Pla
 ying
X-WR-CALDESC:Events from Manchester\, CT - Living\, Learning\, Working\, Pl
 aying
REFRESH-INTERVAL;VALUE=DURATION:PT1440M
X-PUBLISHED-TTL:PT1440M
BEGIN:VTIMEZONE
TZID:America/New_York
BEGIN:STANDARD
DTSTART:20211107T020000Z
TZOFFSETFROM:-0400
TZOFFSETTO:-0500
END:STANDARD
BEGIN:DAYLIGHT
DTSTART:20220313T020000Z
TZOFFSETFROM:-0500
TZOFFSETTO:-0400
END:DAYLIGHT
BEGIN:STANDARD
DTSTART:20221106T020000Z
TZOFFSETFROM:-0400
TZOFFSETTO:-0500
END:STANDARD
END:VTIMEZONE
BEGIN:VTIMEZONE
TZID:UTC
BEGIN:STANDARD
DTSTART:20250724T103021Z
TZOFFSETFROM:+0000
TZOFFSETTO:+0000
END:STANDARD
END:VTIMEZONE
BEGIN:VEVENT
UID:3994-722
DTSTAMP:20260420T103021Z
SUMMARY:Zoning Board of Appeals
LOCATION:
ORGANIZER;CN=manchesterctblog:MAILTO:christineladd57@gmail.com
RRULE:FREQ=MONTHLY;BYDAY=4WE;UNTIL=20230118T000000Z
DTSTART;TZID=America/New_York:20220727T180000
DTEND;TZID=America/New_York:20220727T190000
X-ALT-DESC;FMTTYPE=TEXT/HTML:he meetings will be held at 7:00 p.m. in the L
 incoln Center Hearing Room\, 494 Main Street\, Manchester\, Connecticut. A
  business meeting will follow the close of the public hearings. Zoning Boa
 rd of Appeals Meetings will be held both virtually and in person in the Pu
 blic hearing notices\, agendas\, meeting packets\, actions and minutes can
 &amp;hellip\;
CATEGORIES:Town Government
URL;VALUE=URI:https://manchester-ct.blog/mc-events/zoning-board-of-appeals/
 ?mc_id=3994
METHOD:PUBLISH
END:VEVENT
END:VCALENDAR