BEGIN:VCALENDAR
VERSION:2.0
PRODID:spatie/icalendar-generator
DESCRIPTION:Events from Manchester\, CT - Living\, Learning\, Working\, Pla
 ying
X-WR-CALDESC:Events from Manchester\, CT - Living\, Learning\, Working\, Pl
 aying
REFRESH-INTERVAL;VALUE=DURATION:PT1440M
X-PUBLISHED-TTL:PT1440M
BEGIN:VTIMEZONE
TZID:America/New_York
BEGIN:STANDARD
DTSTART:20211107T020000Z
TZOFFSETFROM:-0400
TZOFFSETTO:-0500
END:STANDARD
BEGIN:DAYLIGHT
DTSTART:20220313T020000Z
TZOFFSETFROM:-0500
TZOFFSETTO:-0400
END:DAYLIGHT
END:VTIMEZONE
BEGIN:VTIMEZONE
TZID:UTC
BEGIN:STANDARD
DTSTART:20250726T153304Z
TZOFFSETFROM:+0000
TZOFFSETTO:+0000
END:STANDARD
END:VTIMEZONE
BEGIN:VEVENT
UID:4003-842
DTSTAMP:20260422T153304Z
SUMMARY:Manchester Then and Now
LOCATION:Manchester History Center 175 Pine St  Manchester CT 06040
ORGANIZER;CN=manchesterctblog:MAILTO:christineladd57@gmail.com
DTSTART;TZID=America/New_York:20220326T160000
DTEND;TZID=America/New_York:20220326T170000
X-ALT-DESC;FMTTYPE=TEXT/HTML:A new exhibit showcasing the history of Manche
 ster from pre-Colonial times to the present\, opens to the public on Satur
 day\, March 26\, Admission is free. The exhibit displays artifacts and ima
 ges that connect Manchester’s past to its present through activities and
  experiences that Manchester’s residents have shared throughout the town
 ’s history. The exhibit is supported&amp;hellip\;
CATEGORIES:Land Trust,  Museums,  History
URL;VALUE=URI:https://manchester-ct.blog/mc-events/manchester-then-and-now/
METHOD:PUBLISH
END:VEVENT
END:VCALENDAR