BEGIN:VCALENDAR
VERSION:2.0
PRODID:spatie/icalendar-generator
DESCRIPTION:Events from Manchester\, CT - Living\, Learning\, Working\, Pla
 ying
X-WR-CALDESC:Events from Manchester\, CT - Living\, Learning\, Working\, Pl
 aying
REFRESH-INTERVAL;VALUE=DURATION:PT1440M
X-PUBLISHED-TTL:PT1440M
BEGIN:VTIMEZONE
TZID:America/New_York
BEGIN:STANDARD
DTSTART:20211107T020000Z
TZOFFSETFROM:-0400
TZOFFSETTO:-0500
END:STANDARD
BEGIN:DAYLIGHT
DTSTART:20220313T020000Z
TZOFFSETFROM:-0500
TZOFFSETTO:-0400
END:DAYLIGHT
END:VTIMEZONE
BEGIN:VTIMEZONE
TZID:UTC
BEGIN:STANDARD
DTSTART:20250728T093440Z
TZOFFSETFROM:+0000
TZOFFSETTO:+0000
END:STANDARD
END:VTIMEZONE
BEGIN:VEVENT
UID:4016-853
DTSTAMP:20260424T093440Z
SUMMARY:Painted Boot Planter Craft
LOCATION:
ORGANIZER;CN=manchesterctblog:MAILTO:christineladd57@gmail.com
DTSTART;TZID=America/New_York:20220326T140000
DTEND;TZID=America/New_York:20220326T150000
X-ALT-DESC;FMTTYPE=TEXT/HTML:Limited to 10 people. Join us as we paint cera
 mic planter boots. Each participant will receive two boots\, paint\, dirt\
 , and seed. All materials will be supplied. *Adults only* Registration is 
 required – please call 860-645-0821.
CATEGORIES:Library
URL;VALUE=URI:https://manchester-ct.blog/mc-events/painted-boot-planter-cra
 ft/
METHOD:PUBLISH
END:VEVENT
END:VCALENDAR