BEGIN:VCALENDAR
VERSION:2.0
PRODID:spatie/icalendar-generator
DESCRIPTION:Events from Manchester\, CT - Living\, Learning\, Working\, Pla
 ying
X-WR-CALDESC:Events from Manchester\, CT - Living\, Learning\, Working\, Pl
 aying
REFRESH-INTERVAL;VALUE=DURATION:PT1440M
X-PUBLISHED-TTL:PT1440M
BEGIN:VTIMEZONE
TZID:America/New_York
BEGIN:STANDARD
DTSTART:20211107T020000Z
TZOFFSETFROM:-0400
TZOFFSETTO:-0500
END:STANDARD
BEGIN:DAYLIGHT
DTSTART:20220313T020000Z
TZOFFSETFROM:-0500
TZOFFSETTO:-0400
END:DAYLIGHT
END:VTIMEZONE
BEGIN:VTIMEZONE
TZID:UTC
BEGIN:STANDARD
DTSTART:20250728T090754Z
TZOFFSETFROM:+0000
TZOFFSETTO:+0000
END:STANDARD
END:VTIMEZONE
BEGIN:VEVENT
UID:4087-902
DTSTAMP:20260424T090754Z
SUMMARY:FIRE FLOW TESTS
LOCATION:
ORGANIZER;CN=manchesterctblog:MAILTO:christineladd57@gmail.com
DTSTART;TZID=America/New_York;VALUE=DATE:20220405
DTEND;TZID=America/New_York;VALUE=DATE:20220406
X-ALT-DESC;FMTTYPE=TEXT/HTML:FIRE FLOW TESTS – Tuesday April 5 at 10AM. 5
 0 Harrison St\, Manchester\, CT The Town of Manchester will conduct fire f
 low/hydraulic capacity tests at 50 Harrison Street\, Manchester\, CT to de
 termine the effects upon the water distribution system. The tests will tak
 e place at on Tuesday April 5th at 10AM. The hydrant flow test&amp;hellip\;
CATEGORIES:Town Government
URL;VALUE=URI:https://manchester-ct.blog/mc-events/fire-flow-tests/
METHOD:PUBLISH
END:VEVENT
END:VCALENDAR