BEGIN:VCALENDAR
VERSION:2.0
PRODID:spatie/icalendar-generator
DESCRIPTION:Events from Manchester\, CT - Living\, Learning\, Working\, Pla
 ying
X-WR-CALDESC:Events from Manchester\, CT - Living\, Learning\, Working\, Pl
 aying
REFRESH-INTERVAL;VALUE=DURATION:PT1440M
X-PUBLISHED-TTL:PT1440M
BEGIN:VTIMEZONE
TZID:America/New_York
BEGIN:STANDARD
DTSTART:20211107T020000Z
TZOFFSETFROM:-0400
TZOFFSETTO:-0500
END:STANDARD
BEGIN:DAYLIGHT
DTSTART:20220313T020000Z
TZOFFSETFROM:-0500
TZOFFSETTO:-0400
END:DAYLIGHT
END:VTIMEZONE
BEGIN:VTIMEZONE
TZID:UTC
BEGIN:STANDARD
DTSTART:20250728T075742Z
TZOFFSETFROM:+0000
TZOFFSETTO:+0000
END:STANDARD
END:VTIMEZONE
BEGIN:VEVENT
UID:4202-961
DTSTAMP:20260424T075742Z
SUMMARY:Not So “YA” Book Club
LOCATION:Whiton Branch Library   100 North Main St  Manchester CT
ORGANIZER;CN=manchesterctblog:MAILTO:christineladd57@gmail.com
DTSTART;TZID=America/New_York:20220427T190000
DTEND;TZID=America/New_York:20220427T200000
X-ALT-DESC;FMTTYPE=TEXT/HTML:*Wednesday\, April 27 @ 7pm: Not So “YA” B
 ook Club discusses Within These Wicked Walls by Lauren Blackwood. (Whiton)
CATEGORIES:Library
URL;VALUE=URI:https://manchester-ct.blog/mc-events/not-so-ya-book-club-6/
METHOD:PUBLISH
END:VEVENT
END:VCALENDAR