BEGIN:VCALENDAR
VERSION:2.0
PRODID:spatie/icalendar-generator
DESCRIPTION:Events from Manchester\, CT - Living\, Learning\, Working\, Pla
 ying
X-WR-CALDESC:Events from Manchester\, CT - Living\, Learning\, Working\, Pl
 aying
REFRESH-INTERVAL;VALUE=DURATION:PT1440M
X-PUBLISHED-TTL:PT1440M
BEGIN:VTIMEZONE
TZID:America/New_York
BEGIN:STANDARD
DTSTART:20211107T020000Z
TZOFFSETFROM:-0400
TZOFFSETTO:-0500
END:STANDARD
BEGIN:DAYLIGHT
DTSTART:20220313T020000Z
TZOFFSETFROM:-0500
TZOFFSETTO:-0400
END:DAYLIGHT
END:VTIMEZONE
BEGIN:VTIMEZONE
TZID:UTC
BEGIN:STANDARD
DTSTART:20250728T093745Z
TZOFFSETFROM:+0000
TZOFFSETTO:+0000
END:STANDARD
END:VTIMEZONE
BEGIN:VEVENT
UID:4210-903
DTSTAMP:20260424T093745Z
SUMMARY:R.E.A.D. to a Dog
LOCATION:
ORGANIZER;CN=manchesterctblog:MAILTO:christineladd57@gmail.com
RRULE:FREQ=WEEKLY;UNTIL=20220428T000000Z
DTSTART;TZID=America/New_York:20220427T153000
DTEND;TZID=America/New_York:20220427T164500
X-ALT-DESC;FMTTYPE=TEXT/HTML:Wednesdays\, April 6th\, 13th\, 20th &amp;amp\; 27
 th\, May 4th &amp;amp\; 11th\; 3:30-4:45pm at Cheney. Mary Cheney Library – 
 586 Main St\, Manchester\, CT 06040 860-645-0577 R.E.A.D. to a Dog with An
 dy\, Grant &amp;amp\; Tori R.E.A.D. to a Dog with Andy\, Grant\, &amp;amp\; Tori 
 –Andy\, Grant\, and Tori are registered therapy dogs and reading educati
 on assistance&amp;hellip\;
CATEGORIES:Library
URL;VALUE=URI:https://manchester-ct.blog/mc-events/r-e-a-d-to-a-dog-2/?mc_i
 d=4210
METHOD:PUBLISH
END:VEVENT
END:VCALENDAR