BEGIN:VCALENDAR
VERSION:2.0
PRODID:spatie/icalendar-generator
DESCRIPTION:Events from Manchester\, CT - Living\, Learning\, Working\, Pla
 ying
X-WR-CALDESC:Events from Manchester\, CT - Living\, Learning\, Working\, Pl
 aying
REFRESH-INTERVAL;VALUE=DURATION:PT1440M
X-PUBLISHED-TTL:PT1440M
BEGIN:VTIMEZONE
TZID:America/New_York
BEGIN:STANDARD
DTSTART:20211107T020000Z
TZOFFSETFROM:-0400
TZOFFSETTO:-0500
END:STANDARD
BEGIN:DAYLIGHT
DTSTART:20220313T020000Z
TZOFFSETFROM:-0500
TZOFFSETTO:-0400
END:DAYLIGHT
BEGIN:STANDARD
DTSTART:20221106T020000Z
TZOFFSETFROM:-0400
TZOFFSETTO:-0500
END:STANDARD
END:VTIMEZONE
BEGIN:VTIMEZONE
TZID:UTC
BEGIN:STANDARD
DTSTART:20250726T140008Z
TZOFFSETFROM:+0000
TZOFFSETTO:+0000
END:STANDARD
END:VTIMEZONE
BEGIN:VEVENT
UID:4395-1077
DTSTAMP:20260422T140008Z
SUMMARY:Middle School Nights
LOCATION:
ORGANIZER;CN=manchesterctblog:MAILTO:christineladd57@gmail.com
RRULE:FREQ=WEEKLY;UNTIL=20220728T000000Z
DTSTART;TZID=America/New_York:20220706T180000
DTEND;TZID=America/New_York:20220706T200000
X-ALT-DESC;FMTTYPE=TEXT/HTML:Every Wednesday from 6 to 8 PM For grades 6 to
  8 Drop in to play a variety of computer and video games with other middle
  schoolers!
CATEGORIES:Library
URL;VALUE=URI:https://manchester-ct.blog/mc-events/middle-school-nights-4/?
 mc_id=4395
METHOD:PUBLISH
END:VEVENT
END:VCALENDAR