BEGIN:VCALENDAR
VERSION:2.0
PRODID:spatie/icalendar-generator
DESCRIPTION:Events from Manchester\, CT - Living\, Learning\, Working\, Pla
 ying
X-WR-CALDESC:Events from Manchester\, CT - Living\, Learning\, Working\, Pl
 aying
REFRESH-INTERVAL;VALUE=DURATION:PT1440M
X-PUBLISHED-TTL:PT1440M
BEGIN:VTIMEZONE
TZID:America/New_York
BEGIN:DAYLIGHT
DTSTART:20220313T020000Z
TZOFFSETFROM:-0500
TZOFFSETTO:-0400
END:DAYLIGHT
BEGIN:STANDARD
DTSTART:20221106T020000Z
TZOFFSETFROM:-0400
TZOFFSETTO:-0500
END:STANDARD
END:VTIMEZONE
BEGIN:VTIMEZONE
TZID:UTC
BEGIN:STANDARD
DTSTART:20250728T092243Z
TZOFFSETFROM:+0000
TZOFFSETTO:+0000
END:STANDARD
END:VTIMEZONE
BEGIN:VEVENT
UID:5011-1266
DTSTAMP:20260424T092243Z
SUMMARY:First Day of School: Grades 6\, 8\, &amp;amp\; 10-12
LOCATION:
ORGANIZER;CN=manchesterctblog:MAILTO:christineladd57@gmail.com
DTSTART;TZID=America/New_York;VALUE=DATE:20220907
DTEND;TZID=America/New_York;VALUE=DATE:20220908
X-ALT-DESC;FMTTYPE=TEXT/HTML:
CATEGORIES:Board of Education (Schools)
URL;VALUE=URI:https://manchester-ct.blog/mc-events/first-day-of-school-grad
 es-6-8-10-12/
METHOD:PUBLISH
END:VEVENT
END:VCALENDAR