BEGIN:VCALENDAR
VERSION:2.0
PRODID:spatie/icalendar-generator
DESCRIPTION:Events from Manchester\, CT - Living\, Learning\, Working\, Pla
 ying
X-WR-CALDESC:Events from Manchester\, CT - Living\, Learning\, Working\, Pl
 aying
REFRESH-INTERVAL;VALUE=DURATION:PT1440M
X-PUBLISHED-TTL:PT1440M
BEGIN:VTIMEZONE
TZID:America/New_York
BEGIN:DAYLIGHT
DTSTART:20220313T020000Z
TZOFFSETFROM:-0500
TZOFFSETTO:-0400
END:DAYLIGHT
BEGIN:STANDARD
DTSTART:20221106T020000Z
TZOFFSETFROM:-0400
TZOFFSETTO:-0500
END:STANDARD
BEGIN:DAYLIGHT
DTSTART:20230312T020000Z
TZOFFSETFROM:-0500
TZOFFSETTO:-0400
END:DAYLIGHT
END:VTIMEZONE
BEGIN:VTIMEZONE
TZID:UTC
BEGIN:STANDARD
DTSTART:20250725T084538Z
TZOFFSETFROM:+0000
TZOFFSETTO:+0000
END:STANDARD
END:VTIMEZONE
BEGIN:VEVENT
UID:5409-1450
DTSTAMP:20260421T084538Z
SUMMARY:Lecture Series &amp;amp\; Membership Drive
LOCATION:Manchester History Center 175 Pine St  Manchester CT 06040
ORGANIZER;CN=manchesterctblog:MAILTO:christineladd57@gmail.com
DTSTART;TZID=America/New_York:20221106T130000
DTEND;TZID=America/New_York:20221106T140000
X-ALT-DESC;FMTTYPE=TEXT/HTML:Historical Society lecture series &amp;amp\; membe
 rship drive Robert Kanehl will present a free lecture series to encourage 
 membership in the Historical Society. New member forms will be available\,
  and new members will receive a free copy of the illustrated booklet The M
 iracle Workers\, a $15 value. Here's the schedule: Sunday October 30 at 1:
 00 p.m.&amp;hellip\;
CATEGORIES:Land Trust,  Museums,  History
URL;VALUE=URI:https://manchester-ct.blog/mc-events/lecture-series-membershi
 p-drive/
METHOD:PUBLISH
END:VEVENT
END:VCALENDAR