BEGIN:VCALENDAR
VERSION:2.0
PRODID:spatie/icalendar-generator
DESCRIPTION:Events from Manchester\, CT - Living\, Learning\, Working\, Pla
 ying
X-WR-CALDESC:Events from Manchester\, CT - Living\, Learning\, Working\, Pl
 aying
REFRESH-INTERVAL;VALUE=DURATION:PT1440M
X-PUBLISHED-TTL:PT1440M
BEGIN:VTIMEZONE
TZID:America/New_York
BEGIN:DAYLIGHT
DTSTART:20220313T020000Z
TZOFFSETFROM:-0500
TZOFFSETTO:-0400
END:DAYLIGHT
BEGIN:STANDARD
DTSTART:20221106T020000Z
TZOFFSETFROM:-0400
TZOFFSETTO:-0500
END:STANDARD
BEGIN:DAYLIGHT
DTSTART:20230312T020000Z
TZOFFSETFROM:-0500
TZOFFSETTO:-0400
END:DAYLIGHT
END:VTIMEZONE
BEGIN:VTIMEZONE
TZID:UTC
BEGIN:STANDARD
DTSTART:20250725T085102Z
TZOFFSETFROM:+0000
TZOFFSETTO:+0000
END:STANDARD
END:VTIMEZONE
BEGIN:VEVENT
UID:5887-1491
DTSTAMP:20260421T085102Z
SUMMARY:November Pie Social
LOCATION:Senior Center 549 East Middle Turnpike  Manchester CT 06045
ORGANIZER;CN=manchesterctblog:MAILTO:christineladd57@gmail.com
DTSTART;TZID=America/New_York:20221123T130000
DTEND;TZID=America/New_York:20221123T140000
X-ALT-DESC;FMTTYPE=TEXT/HTML:Join us in the cafeteria for the perfect Novem
 ber treat of Pie and the opportunity to spend Ɵme with fellow members. Ev
 ent takes place at 1:00 PM on Wednesday\, November 23rd. Please call the f
 ront desk to register (860) 647-3211.
CATEGORIES:Senior Center
URL;VALUE=URI:https://manchester-ct.blog/mc-events/november-pie-social/
METHOD:PUBLISH
END:VEVENT
END:VCALENDAR