BEGIN:VCALENDAR
VERSION:2.0
PRODID:spatie/icalendar-generator
DESCRIPTION:Events from Manchester\, CT - Living\, Learning\, Working\, Pla
 ying
X-WR-CALDESC:Events from Manchester\, CT - Living\, Learning\, Working\, Pl
 aying
REFRESH-INTERVAL;VALUE=DURATION:PT1440M
X-PUBLISHED-TTL:PT1440M
BEGIN:VTIMEZONE
TZID:America/New_York
BEGIN:DAYLIGHT
DTSTART:20220313T020000Z
TZOFFSETFROM:-0500
TZOFFSETTO:-0400
END:DAYLIGHT
BEGIN:STANDARD
DTSTART:20221106T020000Z
TZOFFSETFROM:-0400
TZOFFSETTO:-0500
END:STANDARD
BEGIN:DAYLIGHT
DTSTART:20230312T020000Z
TZOFFSETFROM:-0500
TZOFFSETTO:-0400
END:DAYLIGHT
END:VTIMEZONE
BEGIN:VTIMEZONE
TZID:UTC
BEGIN:STANDARD
DTSTART:20250728T145957Z
TZOFFSETFROM:+0000
TZOFFSETTO:+0000
END:STANDARD
END:VTIMEZONE
BEGIN:VEVENT
UID:5890-1493
DTSTAMP:20260424T145957Z
SUMMARY:Square Dancing
LOCATION:Senior Center 549 East Middle Turnpike  Manchester CT 06045
ORGANIZER;CN=manchesterctblog:MAILTO:christineladd57@gmail.com
DTSTART;TZID=America/New_York:20221103T130000
DTEND;TZID=America/New_York:20221103T144500
X-ALT-DESC;FMTTYPE=TEXT/HTML:Dances will be on Thursday\, November 3\, and 
 November 17\, from 1:00—2:45 PM. Cost is $5 per class. This is a great f
 orm of exercise for the body and mind. Must be able to follow simple instr
 uctions and move through the dance. Join this group to have fun\, get exer
 cise\, and make friends! Pre-registraƟon is&amp;hellip\;
CATEGORIES:Senior Center
URL;VALUE=URI:https://manchester-ct.blog/mc-events/square-dancing-2/
METHOD:PUBLISH
END:VEVENT
END:VCALENDAR