BEGIN:VCALENDAR
VERSION:2.0
PRODID:spatie/icalendar-generator
DESCRIPTION:Events from Manchester\, CT - Living\, Learning\, Working\, Pla
 ying
X-WR-CALDESC:Events from Manchester\, CT - Living\, Learning\, Working\, Pl
 aying
REFRESH-INTERVAL;VALUE=DURATION:PT1440M
X-PUBLISHED-TTL:PT1440M
BEGIN:VTIMEZONE
TZID:America/New_York
BEGIN:DAYLIGHT
DTSTART:20220313T020000Z
TZOFFSETFROM:-0500
TZOFFSETTO:-0400
END:DAYLIGHT
BEGIN:STANDARD
DTSTART:20221106T020000Z
TZOFFSETFROM:-0400
TZOFFSETTO:-0500
END:STANDARD
BEGIN:DAYLIGHT
DTSTART:20230312T020000Z
TZOFFSETFROM:-0500
TZOFFSETTO:-0400
END:DAYLIGHT
END:VTIMEZONE
BEGIN:VTIMEZONE
TZID:UTC
BEGIN:STANDARD
DTSTART:20250726T094419Z
TZOFFSETFROM:+0000
TZOFFSETTO:+0000
END:STANDARD
END:VTIMEZONE
BEGIN:VEVENT
UID:5918-1506
DTSTAMP:20260422T094419Z
SUMMARY:MCSC’s Meeting
LOCATION:Online
ORGANIZER;CN=manchesterctblog:MAILTO:christineladd57@gmail.com
DTSTART;TZID=America/New_York:20221201T090000
DTEND;TZID=America/New_York:20221201T100000
X-ALT-DESC;FMTTYPE=TEXT/HTML:Human services funding is on just about everyo
 ne's mind these days. This Thursday morning is your chance to hear first-h
 and from two state and local experts. Please join MCSC on Dec. 1st at 9:
 00 a.m. via Zoom* as we host State Senator Saud Anwar and the Town of Manc
 hester's Joel Cox. Among his other roles\, Senator Anwar&amp;hellip\;
CATEGORIES:Other (non-profit)
URL;VALUE=URI:https://manchester-ct.blog/mc-events/mcscs-meeting-2/
METHOD:PUBLISH
END:VEVENT
END:VCALENDAR