BEGIN:VCALENDAR
VERSION:2.0
PRODID:spatie/icalendar-generator
DESCRIPTION:Events from Manchester\, CT - Living\, Learning\, Working\, Pla
 ying
X-WR-CALDESC:Events from Manchester\, CT - Living\, Learning\, Working\, Pl
 aying
REFRESH-INTERVAL;VALUE=DURATION:PT1440M
X-PUBLISHED-TTL:PT1440M
BEGIN:VTIMEZONE
TZID:America/New_York
BEGIN:DAYLIGHT
DTSTART:20220313T020000Z
TZOFFSETFROM:-0500
TZOFFSETTO:-0400
END:DAYLIGHT
BEGIN:STANDARD
DTSTART:20221106T020000Z
TZOFFSETFROM:-0400
TZOFFSETTO:-0500
END:STANDARD
BEGIN:DAYLIGHT
DTSTART:20230312T020000Z
TZOFFSETFROM:-0500
TZOFFSETTO:-0400
END:DAYLIGHT
END:VTIMEZONE
BEGIN:VTIMEZONE
TZID:UTC
BEGIN:STANDARD
DTSTART:20250728T093450Z
TZOFFSETFROM:+0000
TZOFFSETTO:+0000
END:STANDARD
END:VTIMEZONE
BEGIN:VEVENT
UID:5998-1563
DTSTAMP:20260424T093450Z
SUMMARY:FAFSA Help (Virtual)
LOCATION:Manchester Community College 60 Bidwell St  Manchester CT 06040
ORGANIZER;CN=manchesterctblog:MAILTO:christineladd57@gmail.com
RRULE:FREQ=WEEKLY;UNTIL=20221221T000000Z
DTSTART;TZID=America/New_York:20221206T180000
DTEND;TZID=America/New_York:20221206T190000
X-ALT-DESC;FMTTYPE=TEXT/HTML:December 6 Tuesday 11:00 am–12:00 pm Tuesday
  December 6\, 11:00 am to 12:00 pm The FAFSA Help session is designed to p
 rovide current and prospective MCC students with free\, one-on-one assista
 nce in completing the Free Application for Federal Student Aid (FAFSA). It
  will focus on the completion of the 2022-23 and 2023-24 FAFSA. The 2022-2
 3&amp;hellip\;
CATEGORIES:MCC
URL;VALUE=URI:https://manchester-ct.blog/mc-events/fafsa-help-virtual-3/?mc
 _id=5998
METHOD:PUBLISH
END:VEVENT
END:VCALENDAR