BEGIN:VCALENDAR
VERSION:2.0
PRODID:spatie/icalendar-generator
DESCRIPTION:Events from Manchester\, CT - Living\, Learning\, Working\, Pla
 ying
X-WR-CALDESC:Events from Manchester\, CT - Living\, Learning\, Working\, Pl
 aying
REFRESH-INTERVAL;VALUE=DURATION:PT1440M
X-PUBLISHED-TTL:PT1440M
BEGIN:VTIMEZONE
TZID:America/New_York
BEGIN:STANDARD
DTSTART:20221106T020000Z
TZOFFSETFROM:-0400
TZOFFSETTO:-0500
END:STANDARD
BEGIN:DAYLIGHT
DTSTART:20230312T020000Z
TZOFFSETFROM:-0500
TZOFFSETTO:-0400
END:DAYLIGHT
END:VTIMEZONE
BEGIN:VTIMEZONE
TZID:UTC
BEGIN:STANDARD
DTSTART:20250726T081820Z
TZOFFSETFROM:+0000
TZOFFSETTO:+0000
END:STANDARD
END:VTIMEZONE
BEGIN:VEVENT
UID:6301-1647
DTSTAMP:20260422T081820Z
SUMMARY:Passport to Family Fun!
LOCATION:Youth Services Bureau 63 Linden St  Manchester CT 06040
ORGANIZER;CN=manchesterctblog:MAILTO:christineladd57@gmail.com
RRULE:FREQ=MONTHLY;BYDAY=2TH;UNTIL=20230609T000000Z
DTSTART;TZID=America/New_York:20230112T173000
DTEND;TZID=America/New_York:20230112T193000
X-ALT-DESC;FMTTYPE=TEXT/HTML:You don’t need to travel far to have fun! Jo
 in us for monthly family activities\, including pot- tery painting\, famil
 y trivia\, gingerbread house competition\, family bingo\, cupcake decorati
 ng\, drum circle\, paint party\, and more! All families will receive a “
 Passport\,” which will be stamped at each event. Families who attend 5 o
 r more events throughout&amp;hellip\;
CATEGORIES:Leisure,  Family &amp; Recreation
URL;VALUE=URI:https://manchester-ct.blog/mc-events/passport-to-family-fun-5
 /?mc_id=6301
METHOD:PUBLISH
END:VEVENT
END:VCALENDAR