BEGIN:VCALENDAR
VERSION:2.0
PRODID:spatie/icalendar-generator
DESCRIPTION:Events from Manchester\, CT - Living\, Learning\, Working\, Pla
 ying
X-WR-CALDESC:Events from Manchester\, CT - Living\, Learning\, Working\, Pl
 aying
REFRESH-INTERVAL;VALUE=DURATION:PT1440M
X-PUBLISHED-TTL:PT1440M
BEGIN:VTIMEZONE
TZID:America/New_York
BEGIN:DAYLIGHT
DTSTART:20230312T020000Z
TZOFFSETFROM:-0500
TZOFFSETTO:-0400
END:DAYLIGHT
BEGIN:STANDARD
DTSTART:20231105T020000Z
TZOFFSETFROM:-0400
TZOFFSETTO:-0500
END:STANDARD
BEGIN:DAYLIGHT
DTSTART:20240310T020000Z
TZOFFSETFROM:-0500
TZOFFSETTO:-0400
END:DAYLIGHT
END:VTIMEZONE
BEGIN:VTIMEZONE
TZID:UTC
BEGIN:STANDARD
DTSTART:20250724T121032Z
TZOFFSETFROM:+0000
TZOFFSETTO:+0000
END:STANDARD
END:VTIMEZONE
BEGIN:VEVENT
UID:6467-1713
DTSTAMP:20260420T121032Z
SUMMARY:Veteran’s Advisory Committee
LOCATION:Senior Center 549 East Middle Turnpike  Manchester CT 06045
ORGANIZER;CN=manchesterctblog:MAILTO:christineladd57@gmail.com
RRULE:FREQ=MONTHLY;BYDAY=3WE;UNTIL=20240119T000000Z
DTSTART;TZID=America/New_York:20231115T190000
DTEND;TZID=America/New_York:20231115T203000
X-ALT-DESC;FMTTYPE=TEXT/HTML:Established in 2021\, The Veteran's Advisory C
 ommittee works to further enhance the Town of Manchester's efforts to prov
 ide its veterans with support\, services\, and opportunities consistent wi
 th Connecticut General Statutes Section 27-135. The meetings are open to t
 he public\, and we encourage participation. Meeting schedule: 3rd Wednesda
 y of each month at 7 p.m. at Manchester&amp;hellip\;
CATEGORIES:Town Government
URL;VALUE=URI:https://manchester-ct.blog/mc-events/veterans-advisory-commit
 tee-2/?mc_id=6467
METHOD:PUBLISH
END:VEVENT
END:VCALENDAR