BEGIN:VCALENDAR
VERSION:2.0
PRODID:spatie/icalendar-generator
DESCRIPTION:Events from Manchester\, CT - Living\, Learning\, Working\, Pla
 ying
X-WR-CALDESC:Events from Manchester\, CT - Living\, Learning\, Working\, Pl
 aying
REFRESH-INTERVAL;VALUE=DURATION:PT1440M
X-PUBLISHED-TTL:PT1440M
BEGIN:VTIMEZONE
TZID:America/New_York
BEGIN:STANDARD
DTSTART:20221106T020000Z
TZOFFSETFROM:-0400
TZOFFSETTO:-0500
END:STANDARD
BEGIN:DAYLIGHT
DTSTART:20230312T020000Z
TZOFFSETFROM:-0500
TZOFFSETTO:-0400
END:DAYLIGHT
BEGIN:STANDARD
DTSTART:20231105T020000Z
TZOFFSETFROM:-0400
TZOFFSETTO:-0500
END:STANDARD
END:VTIMEZONE
BEGIN:VTIMEZONE
TZID:UTC
BEGIN:STANDARD
DTSTART:20250728T080032Z
TZOFFSETFROM:+0000
TZOFFSETTO:+0000
END:STANDARD
END:VTIMEZONE
BEGIN:VEVENT
UID:7466-2130
DTSTAMP:20260424T080032Z
SUMMARY:The Great Northwest Park Faerie Trail
LOCATION:Northwest Park 448 Tolland Turnpike  Manchester CT
ORGANIZER;CN=manchesterctblog:MAILTO:christineladd57@gmail.com
DTSTART;TZID=America/New_York;VALUE=DATE:20230712
DTEND;TZID=America/New_York;VALUE=DATE:20230713
X-ALT-DESC;FMTTYPE=TEXT/HTML:We're looking forward to an even more magical 
 season of wonder and joy this on the trail! Follow the trail through the B
 utterfly Garden beginning in August and be transported to the Great Northw
 est Faerie Trail. Hidden along the trail\, discover and explore magical hi
 ding spaces where the faeries live! Trail Opens: 07/12/23 Would you&amp;hellip
 \;
CATEGORIES:Leisure,  Family &amp; Recreation
URL;VALUE=URI:https://manchester-ct.blog/mc-events/the-great-northwest-park
 -faerie-trail/
METHOD:PUBLISH
END:VEVENT
END:VCALENDAR