BEGIN:VCALENDAR
VERSION:2.0
PRODID:spatie/icalendar-generator
DESCRIPTION:Events from Manchester\, CT - Living\, Learning\, Working\, Pla
 ying
X-WR-CALDESC:Events from Manchester\, CT - Living\, Learning\, Working\, Pl
 aying
REFRESH-INTERVAL;VALUE=DURATION:PT1440M
X-PUBLISHED-TTL:PT1440M
BEGIN:VTIMEZONE
TZID:America/New_York
BEGIN:DAYLIGHT
DTSTART:20230312T020000Z
TZOFFSETFROM:-0500
TZOFFSETTO:-0400
END:DAYLIGHT
BEGIN:STANDARD
DTSTART:20231105T020000Z
TZOFFSETFROM:-0400
TZOFFSETTO:-0500
END:STANDARD
BEGIN:DAYLIGHT
DTSTART:20240310T020000Z
TZOFFSETFROM:-0500
TZOFFSETTO:-0400
END:DAYLIGHT
END:VTIMEZONE
BEGIN:VTIMEZONE
TZID:UTC
BEGIN:STANDARD
DTSTART:20250724T085939Z
TZOFFSETFROM:+0000
TZOFFSETTO:+0000
END:STANDARD
END:VTIMEZONE
BEGIN:VEVENT
UID:7867-2352
DTSTAMP:20260420T085939Z
SUMMARY:Art That Transforms
LOCATION:Work_Space 903 Main St  Manchester CT 06040
ORGANIZER;CN=manchesterctblog:MAILTO:christineladd57@gmail.com
DTSTART;TZID=America/New_York:20231016T183000
DTEND;TZID=America/New_York:20231016T200000
X-ALT-DESC;FMTTYPE=TEXT/HTML:Join us for an in-person event at WORK_SPACE w
 here we dive deep into the world of art and its transformative power. Lice
 nsed Social Worker\, Author &amp;amp\; Manchester resident\, Willona Y. Amoako
 h\, B.Ed\, LMSW\, will help us discover how visual communication can evoke
  both conscious and unconscious responses within us. This event is a uniqu
 e opportunity&amp;hellip\;
CATEGORIES:Library
URL;VALUE=URI:https://manchester-ct.blog/mc-events/art-that-transforms/
METHOD:PUBLISH
END:VEVENT
END:VCALENDAR