BEGIN:VCALENDAR
VERSION:2.0
PRODID:spatie/icalendar-generator
DESCRIPTION:Events from Manchester\, CT - Living\, Learning\, Working\, Pla
 ying
X-WR-CALDESC:Events from Manchester\, CT - Living\, Learning\, Working\, Pl
 aying
REFRESH-INTERVAL;VALUE=DURATION:PT1440M
X-PUBLISHED-TTL:PT1440M
BEGIN:VTIMEZONE
TZID:America/New_York
BEGIN:DAYLIGHT
DTSTART:20230312T020000Z
TZOFFSETFROM:-0500
TZOFFSETTO:-0400
END:DAYLIGHT
BEGIN:STANDARD
DTSTART:20231105T020000Z
TZOFFSETFROM:-0400
TZOFFSETTO:-0500
END:STANDARD
BEGIN:DAYLIGHT
DTSTART:20240310T020000Z
TZOFFSETFROM:-0500
TZOFFSETTO:-0400
END:DAYLIGHT
END:VTIMEZONE
BEGIN:VTIMEZONE
TZID:UTC
BEGIN:STANDARD
DTSTART:20250726T124336Z
TZOFFSETFROM:+0000
TZOFFSETTO:+0000
END:STANDARD
END:VTIMEZONE
BEGIN:VEVENT
UID:8239-2516
DTSTAMP:20260422T124336Z
SUMMARY:Civilian Police Review and Relations Board
LOCATION:Town Hall 41 Center St  Manchester CT 06040
ORGANIZER;CN=manchesterctblog:MAILTO:christineladd57@gmail.com
DTSTART;TZID=America/New_York:20231115T180000
DTEND;TZID=America/New_York:20231115T200000
X-ALT-DESC;FMTTYPE=TEXT/HTML:Meeting DateNovember 15\, 2023 Meeting TypeReg
 ular Meeting Executive Session: Public comment Questions\, comments and co
 ncerns of any board member. Adjournment. Time 06:00 PM - 08:00 PM Location
  Town Hall Manchester Room Second Floor 41 Center Street\, 06040
CATEGORIES:Town Government
URL;VALUE=URI:https://manchester-ct.blog/mc-events/civilian-police-review-a
 nd-relations-board-7/
METHOD:PUBLISH
END:VEVENT
END:VCALENDAR