BEGIN:VCALENDAR
VERSION:2.0
PRODID:spatie/icalendar-generator
DESCRIPTION:Events from Manchester\, CT - Living\, Learning\, Working\, Pla
 ying
X-WR-CALDESC:Events from Manchester\, CT - Living\, Learning\, Working\, Pl
 aying
REFRESH-INTERVAL;VALUE=DURATION:PT1440M
X-PUBLISHED-TTL:PT1440M
BEGIN:VTIMEZONE
TZID:America/New_York
BEGIN:STANDARD
DTSTART:20231105T020000Z
TZOFFSETFROM:-0400
TZOFFSETTO:-0500
END:STANDARD
BEGIN:DAYLIGHT
DTSTART:20240310T020000Z
TZOFFSETFROM:-0500
TZOFFSETTO:-0400
END:DAYLIGHT
END:VTIMEZONE
BEGIN:VTIMEZONE
TZID:UTC
BEGIN:STANDARD
DTSTART:20250725T180907Z
TZOFFSETFROM:+0000
TZOFFSETTO:+0000
END:STANDARD
END:VTIMEZONE
BEGIN:VEVENT
UID:9290-2996
DTSTAMP:20260421T180907Z
SUMMARY:Teen Crafternoon
LOCATION:
ORGANIZER;CN=manchesterctblog:MAILTO:christineladd57@gmail.com
DTSTART;TZID=America/New_York:20240402T153000
DTEND;TZID=America/New_York:20240402T163000
X-ALT-DESC;FMTTYPE=TEXT/HTML:Drop by after school and enjoy fun and advance
 d DIY crafts with friends. Grades 6-9. Meets in the Howroyd Room. Call (86
 0) 645-0821 for more info.
CATEGORIES:Library
URL;VALUE=URI:https://manchester-ct.blog/mc-events/teen-crafternoon-9/
METHOD:PUBLISH
END:VEVENT
END:VCALENDAR