BEGIN:VCALENDAR
VERSION:2.0
PRODID:spatie/icalendar-generator
DESCRIPTION:Events from Manchester\, CT - Living\, Learning\, Working\, Pla
 ying
X-WR-CALDESC:Events from Manchester\, CT - Living\, Learning\, Working\, Pl
 aying
REFRESH-INTERVAL;VALUE=DURATION:PT1440M
X-PUBLISHED-TTL:PT1440M
BEGIN:VTIMEZONE
TZID:America/New_York
BEGIN:STANDARD
DTSTART:20231105T020000Z
TZOFFSETFROM:-0400
TZOFFSETTO:-0500
END:STANDARD
BEGIN:DAYLIGHT
DTSTART:20240310T020000Z
TZOFFSETFROM:-0500
TZOFFSETTO:-0400
END:DAYLIGHT
BEGIN:STANDARD
DTSTART:20241103T020000Z
TZOFFSETFROM:-0400
TZOFFSETTO:-0500
END:STANDARD
END:VTIMEZONE
BEGIN:VTIMEZONE
TZID:UTC
BEGIN:STANDARD
DTSTART:20250726T094312Z
TZOFFSETFROM:+0000
TZOFFSETTO:+0000
END:STANDARD
END:VTIMEZONE
BEGIN:VEVENT
UID:9548-3089
DTSTAMP:20260422T094312Z
SUMMARY:Robin's Mothering Group
LOCATION:Northwest Park 448 Tolland Turnpike  Manchester CT
ORGANIZER;CN=manchesterctblog:MAILTO:christineladd57@gmail.com
RRULE:FREQ=WEEKLY;UNTIL=20240830T000000Z
DTSTART;TZID=America/New_York:20240530T113000
DTEND;TZID=America/New_York:20240530T133000
X-ALT-DESC;FMTTYPE=TEXT/HTML:Moms and babies one year and under. This pro- 
 gram is a chance to meet other moms and re- ceive breastfeeding advice fro
 m a board certified lactation consultant. Dates are every Thursday unless 
 otherwise specified. Check “Robin’s Lacta- tion Services” Facebook g
 roup for updates. Con- tact Robin to register (860)742-6231 or RobinDe- Ge
 mmis@gmail.com
CATEGORIES:Leisure,  Family &amp; Recreation
URL;VALUE=URI:https://manchester-ct.blog/mc-events/robins-mothering-group-4
 /?mc_id=9548
METHOD:PUBLISH
END:VEVENT
END:VCALENDAR