BEGIN:VCALENDAR
VERSION:2.0
PRODID:spatie/icalendar-generator
DESCRIPTION:Events from Manchester\, CT - Living\, Learning\, Working\, Pla
 ying
X-WR-CALDESC:Events from Manchester\, CT - Living\, Learning\, Working\, Pl
 aying
REFRESH-INTERVAL;VALUE=DURATION:PT1440M
X-PUBLISHED-TTL:PT1440M
BEGIN:VTIMEZONE
TZID:America/New_York
BEGIN:STANDARD
DTSTART:20231105T020000Z
TZOFFSETFROM:-0400
TZOFFSETTO:-0500
END:STANDARD
BEGIN:DAYLIGHT
DTSTART:20240310T020000Z
TZOFFSETFROM:-0500
TZOFFSETTO:-0400
END:DAYLIGHT
BEGIN:STANDARD
DTSTART:20241103T020000Z
TZOFFSETFROM:-0400
TZOFFSETTO:-0500
END:STANDARD
END:VTIMEZONE
BEGIN:VTIMEZONE
TZID:UTC
BEGIN:STANDARD
DTSTART:20250728T075913Z
TZOFFSETFROM:+0000
TZOFFSETTO:+0000
END:STANDARD
END:VTIMEZONE
BEGIN:VEVENT
UID:9653-3153
DTSTAMP:20260424T075913Z
SUMMARY:Rabies Clinic
LOCATION:Charter Oak Park 56 Charter Oak St  Manchester CT 06040
ORGANIZER;CN=manchesterctblog:MAILTO:christineladd57@gmail.com
DTSTART;TZID=America/New_York:20240601T120000
DTEND;TZID=America/New_York:20240601T140000
X-ALT-DESC;FMTTYPE=TEXT/HTML:Proof of previous rabies certificate must be p
 resented in order to receive a 3-year vaccine. All dogs MUST be leashed\, 
 and all cats MUST be in a carrier. All towns are welcome! Please pick up a
 fter your pet. View the flyer!(PDF\, 70KB)
CATEGORIES:Town Government
URL;VALUE=URI:https://manchester-ct.blog/mc-events/rabies-clinic/
METHOD:PUBLISH
END:VEVENT
END:VCALENDAR