BEGIN:VCALENDAR
VERSION:2.0
PRODID:spatie/icalendar-generator
DESCRIPTION:Events from Manchester\, CT - Living\, Learning\, Working\, Pla
 ying
X-WR-CALDESC:Events from Manchester\, CT - Living\, Learning\, Working\, Pl
 aying
REFRESH-INTERVAL;VALUE=DURATION:PT1440M
X-PUBLISHED-TTL:PT1440M
BEGIN:VTIMEZONE
TZID:America/New_York
BEGIN:STANDARD
DTSTART:20221106T020000Z
TZOFFSETFROM:-0400
TZOFFSETTO:-0500
END:STANDARD
BEGIN:DAYLIGHT
DTSTART:20230312T020000Z
TZOFFSETFROM:-0500
TZOFFSETTO:-0400
END:DAYLIGHT
END:VTIMEZONE
BEGIN:VTIMEZONE
TZID:UTC
BEGIN:STANDARD
DTSTART:20250726T094129Z
TZOFFSETFROM:+0000
TZOFFSETTO:+0000
END:STANDARD
END:VTIMEZONE
BEGIN:VEVENT
UID:5968-1539
DTSTAMP:20260422T094129Z
SUMMARY:Pension Board Meeting
LOCATION:Lincoln Center 494 Main St  Manchester CT 06040
ORGANIZER;CN=manchesterctblog:MAILTO:christineladd57@gmail.com
DTSTART;TZID=America/New_York:20221215T160000
DTEND;TZID=America/New_York:20221215T170000
X-ALT-DESC;FMTTYPE=TEXT/HTML:DIRECTORS ROOM\, LINCOLN CENTER HYBRID IN PERS
 ON/ZOOM TELECONFERENCE MEETING
CATEGORIES:Town Government
URL;VALUE=URI:https://manchester-ct.blog/mc-events/pension-board-meeting/
METHOD:PUBLISH
END:VEVENT
END:VCALENDAR