BEGIN:VCALENDAR
VERSION:2.0
PRODID:spatie/icalendar-generator
DESCRIPTION:Events from Manchester\, CT - Living\, Learning\, Working\, Pla
 ying
X-WR-CALDESC:Events from Manchester\, CT - Living\, Learning\, Working\, Pl
 aying
REFRESH-INTERVAL;VALUE=DURATION:PT1440M
X-PUBLISHED-TTL:PT1440M
BEGIN:VTIMEZONE
TZID:America/New_York
BEGIN:STANDARD
DTSTART:20221106T020000Z
TZOFFSETFROM:-0400
TZOFFSETTO:-0500
END:STANDARD
BEGIN:DAYLIGHT
DTSTART:20230312T020000Z
TZOFFSETFROM:-0500
TZOFFSETTO:-0400
END:DAYLIGHT
END:VTIMEZONE
BEGIN:VTIMEZONE
TZID:UTC
BEGIN:STANDARD
DTSTART:20250724T120117Z
TZOFFSETFROM:+0000
TZOFFSETTO:+0000
END:STANDARD
END:VTIMEZONE
BEGIN:VEVENT
UID:6978-1909
DTSTAMP:20260420T120117Z
SUMMARY:Senior Bike Ride
LOCATION:
ORGANIZER;CN=manchesterctblog:MAILTO:christineladd57@gmail.com
DTSTART;TZID=America/New_York:20230417T130000
DTEND;TZID=America/New_York:20230417T153000
X-ALT-DESC;FMTTYPE=TEXT/HTML:Biking Schedule Monday afternoon from 1:00—3
 :30 PM\, approx. 10—15 miles on pave/hard pack surfaces\, fairly flat/ge
 ntle hills\, relaxed pace\, stop for water breaks or things of interest. P
 lease bring water to stay hydrated and wear a helmet for head protection. 
 April 17—Loop ride: Hop River State Park Trail to Charter Oak Greenway t
 o Cheney Rail&amp;hellip\;
CATEGORIES:Senior Center
URL;VALUE=URI:https://manchester-ct.blog/mc-events/senior-bike-ride/
METHOD:PUBLISH
END:VEVENT
END:VCALENDAR