BEGIN:VCALENDAR
VERSION:2.0
PRODID:spatie/icalendar-generator
DESCRIPTION:Events from Manchester\, CT - Living\, Learning\, Working\, Pla
 ying
X-WR-CALDESC:Events from Manchester\, CT - Living\, Learning\, Working\, Pl
 aying
REFRESH-INTERVAL;VALUE=DURATION:PT1440M
X-PUBLISHED-TTL:PT1440M
BEGIN:VTIMEZONE
TZID:America/New_York
BEGIN:STANDARD
DTSTART:20221106T020000Z
TZOFFSETFROM:-0400
TZOFFSETTO:-0500
END:STANDARD
BEGIN:DAYLIGHT
DTSTART:20230312T020000Z
TZOFFSETFROM:-0500
TZOFFSETTO:-0400
END:DAYLIGHT
BEGIN:STANDARD
DTSTART:20231105T020000Z
TZOFFSETFROM:-0400
TZOFFSETTO:-0500
END:STANDARD
END:VTIMEZONE
BEGIN:VTIMEZONE
TZID:UTC
BEGIN:STANDARD
DTSTART:20250725T125634Z
TZOFFSETFROM:+0000
TZOFFSETTO:+0000
END:STANDARD
END:VTIMEZONE
BEGIN:VEVENT
UID:7111-1981
DTSTAMP:20260421T125634Z
SUMMARY:North Sea Gas
LOCATION:Whiton Branch Library   100 North Main St  Manchester CT
ORGANIZER;CN=manchesterctblog:MAILTO:christineladd57@gmail.com
DTSTART;TZID=America/New_York:20230515T183000
DTEND;TZID=America/New_York:20230515T193000
X-ALT-DESC;FMTTYPE=TEXT/HTML:One of Scotland's most popular folk bands will
  visit Whiton Branch to get your toes tapping and fingers snapping with th
 eir combination of traditional\, contemporary\, and self-penned music. Cop
 ies of their CDs will be available for purchase. About the band: Forty yea
 rs and stronger than ever! “North Sea Gas” is one of Scotland’s most
  popular&amp;hellip\;
CATEGORIES:Library
URL;VALUE=URI:https://manchester-ct.blog/mc-events/north-sea-gas/
METHOD:PUBLISH
END:VEVENT
END:VCALENDAR