BEGIN:VCALENDAR
VERSION:2.0
PRODID:spatie/icalendar-generator
DESCRIPTION:Events from Manchester\, CT - Living\, Learning\, Working\, Pla
 ying
X-WR-CALDESC:Events from Manchester\, CT - Living\, Learning\, Working\, Pl
 aying
REFRESH-INTERVAL;VALUE=DURATION:PT1440M
X-PUBLISHED-TTL:PT1440M
BEGIN:VTIMEZONE
TZID:America/New_York
BEGIN:STANDARD
DTSTART:20231105T020000Z
TZOFFSETFROM:-0400
TZOFFSETTO:-0500
END:STANDARD
BEGIN:DAYLIGHT
DTSTART:20240310T020000Z
TZOFFSETFROM:-0500
TZOFFSETTO:-0400
END:DAYLIGHT
END:VTIMEZONE
BEGIN:VTIMEZONE
TZID:UTC
BEGIN:STANDARD
DTSTART:20250727T080519Z
TZOFFSETFROM:+0000
TZOFFSETTO:+0000
END:STANDARD
END:VTIMEZONE
BEGIN:VEVENT
UID:9291-2997
DTSTAMP:20260423T080519Z
SUMMARY:Early Childhood Music Session
LOCATION:Whiton Branch Library   100 North Main St  Manchester CT
ORGANIZER;CN=manchesterctblog:MAILTO:christineladd57@gmail.com
DTSTART;TZID=America/New_York:20240402T183000
DTEND;TZID=America/New_York:20240402T191500
X-ALT-DESC;FMTTYPE=TEXT/HTML:Join Rebecca of Grow With Me Music for an inte
 ractive music and movement program for children ages 2-5. Registration beg
 ins March 11th. Call 860-643-6892 to secure a spot.  This class is FULL.
CATEGORIES:Library
URL;VALUE=URI:https://manchester-ct.blog/mc-events/early-childhood-music-se
 ssion/
METHOD:PUBLISH
END:VEVENT
END:VCALENDAR